BEGIN:VCALENDAR
VERSION:2.0
PRODID:-//Kruispunt - ECPv6.15.20//NONSGML v1.0//EN
CALSCALE:GREGORIAN
METHOD:PUBLISH
X-WR-CALNAME:Kruispunt
X-ORIGINAL-URL:https://kruispuntgemeente.nl
X-WR-CALDESC:Evenementen voor Kruispunt
REFRESH-INTERVAL;VALUE=DURATION:PT1H
X-Robots-Tag:noindex
X-PUBLISHED-TTL:PT1H
BEGIN:VTIMEZONE
TZID:Europe/Amsterdam
BEGIN:DAYLIGHT
TZOFFSETFROM:+0100
TZOFFSETTO:+0200
TZNAME:CEST
DTSTART:20220327T010000
END:DAYLIGHT
BEGIN:STANDARD
TZOFFSETFROM:+0200
TZOFFSETTO:+0100
TZNAME:CET
DTSTART:20221030T010000
END:STANDARD
BEGIN:DAYLIGHT
TZOFFSETFROM:+0100
TZOFFSETTO:+0200
TZNAME:CEST
DTSTART:20230326T010000
END:DAYLIGHT
BEGIN:STANDARD
TZOFFSETFROM:+0200
TZOFFSETTO:+0100
TZNAME:CET
DTSTART:20231029T010000
END:STANDARD
BEGIN:DAYLIGHT
TZOFFSETFROM:+0100
TZOFFSETTO:+0200
TZNAME:CEST
DTSTART:20240331T010000
END:DAYLIGHT
BEGIN:STANDARD
TZOFFSETFROM:+0200
TZOFFSETTO:+0100
TZNAME:CET
DTSTART:20241027T010000
END:STANDARD
END:VTIMEZONE
BEGIN:VEVENT
DTSTART;TZID=Europe/Amsterdam:20231224T210000
DTEND;TZID=Europe/Amsterdam:20231224T220000
DTSTAMP:20260421T101643
CREATED:20231127T172723Z
LAST-MODIFIED:20231224T143703Z
UID:9429-1703451600-1703455200@kruispuntgemeente.nl
SUMMARY:Kerstnacht 24. dec
DESCRIPTION:God werd mens – zo zouden wij het kerstverhaal weer kunnen geven. Het zijn maar drie woorden (God-werd-mens) die op een formule lijken. Geen mens is in staat om de strekking van dit wonder te beseffen. Het gaat om verwondering én aanbidding. Wat ooit in Bethlehem is gebeurd\, werd in eeuwigheid besloten: de Zoon van God daalt af in onze wereld en wordt mens zodat wij kinderen van God kunnen worden. Hier willen we in deze kerstnachtdienst over zingen met ondersteuning van de Gospelgroep Lichterlaaie. \nDe liturgie kunt u HIER downloaden.
URL:https://kruispuntgemeente.nl/event/kerstnacht-24-dec/
CATEGORIES:Kerkdienst
ATTACH;FMTTYPE=image/jpeg:https://kruispuntgemeente.nl/wp-content/uploads/2023/11/2023-12-24a-scaled.jpg
END:VEVENT
END:VCALENDAR