BEGIN:VCALENDAR
VERSION:2.0
PRODID:-//Kruispunt - ECPv6.15.20//NONSGML v1.0//EN
CALSCALE:GREGORIAN
METHOD:PUBLISH
X-WR-CALNAME:Kruispunt
X-ORIGINAL-URL:https://kruispuntgemeente.nl
X-WR-CALDESC:Evenementen voor Kruispunt
REFRESH-INTERVAL;VALUE=DURATION:PT1H
X-Robots-Tag:noindex
X-PUBLISHED-TTL:PT1H
BEGIN:VTIMEZONE
TZID:Europe/Amsterdam
BEGIN:DAYLIGHT
TZOFFSETFROM:+0100
TZOFFSETTO:+0200
TZNAME:CEST
DTSTART:20240331T010000
END:DAYLIGHT
BEGIN:STANDARD
TZOFFSETFROM:+0200
TZOFFSETTO:+0100
TZNAME:CET
DTSTART:20241027T010000
END:STANDARD
BEGIN:DAYLIGHT
TZOFFSETFROM:+0100
TZOFFSETTO:+0200
TZNAME:CEST
DTSTART:20250330T010000
END:DAYLIGHT
BEGIN:STANDARD
TZOFFSETFROM:+0200
TZOFFSETTO:+0100
TZNAME:CET
DTSTART:20251026T010000
END:STANDARD
BEGIN:DAYLIGHT
TZOFFSETFROM:+0100
TZOFFSETTO:+0200
TZNAME:CEST
DTSTART:20260329T010000
END:DAYLIGHT
BEGIN:STANDARD
TZOFFSETFROM:+0200
TZOFFSETTO:+0100
TZNAME:CET
DTSTART:20261025T010000
END:STANDARD
END:VTIMEZONE
BEGIN:VEVENT
DTSTART;TZID=Europe/Amsterdam:20251231T190000
DTEND;TZID=Europe/Amsterdam:20251231T200000
DTSTAMP:20260425T194409
CREATED:20251229T165033Z
LAST-MODIFIED:20251230T203816Z
UID:25112-1767207600-1767211200@kruispuntgemeente.nl
SUMMARY:Kerkdienst Oudejaarsavond
DESCRIPTION:Psalm 4 wordt beschouwd als avondgebed. Het vertrouwen in de HEER voor de toekomst komt daarin tot uitdrukking. Dit is een prachtige psalm om op Oudejaarsavond de toekomst in handen van onze Heer te leggen.\nDe liturgie kunt u HIER downloaden.
URL:https://kruispuntgemeente.nl/event/kerkdienst-oudejaarsavond/
CATEGORIES:Bijbelstudie,Kerkdienst
ATTACH;FMTTYPE=image/jpeg:https://kruispuntgemeente.nl/wp-content/uploads/2025/12/2025-12-31-PSALM-4-scaled.jpg
END:VEVENT
END:VCALENDAR