BEGIN:VCALENDAR
VERSION:2.0
PRODID:-//Kruispunt - ECPv6.15.20//NONSGML v1.0//EN
CALSCALE:GREGORIAN
METHOD:PUBLISH
X-WR-CALNAME:Kruispunt
X-ORIGINAL-URL:https://kruispuntgemeente.nl
X-WR-CALDESC:Evenementen voor Kruispunt
REFRESH-INTERVAL;VALUE=DURATION:PT1H
X-Robots-Tag:noindex
X-PUBLISHED-TTL:PT1H
BEGIN:VTIMEZONE
TZID:Europe/Amsterdam
BEGIN:DAYLIGHT
TZOFFSETFROM:+0100
TZOFFSETTO:+0200
TZNAME:CEST
DTSTART:20240331T010000
END:DAYLIGHT
BEGIN:STANDARD
TZOFFSETFROM:+0200
TZOFFSETTO:+0100
TZNAME:CET
DTSTART:20241027T010000
END:STANDARD
BEGIN:DAYLIGHT
TZOFFSETFROM:+0100
TZOFFSETTO:+0200
TZNAME:CEST
DTSTART:20250330T010000
END:DAYLIGHT
BEGIN:STANDARD
TZOFFSETFROM:+0200
TZOFFSETTO:+0100
TZNAME:CET
DTSTART:20251026T010000
END:STANDARD
BEGIN:DAYLIGHT
TZOFFSETFROM:+0100
TZOFFSETTO:+0200
TZNAME:CEST
DTSTART:20260329T010000
END:DAYLIGHT
BEGIN:STANDARD
TZOFFSETFROM:+0200
TZOFFSETTO:+0100
TZNAME:CET
DTSTART:20261025T010000
END:STANDARD
END:VTIMEZONE
BEGIN:VEVENT
DTSTART;TZID=Europe/Amsterdam:20251225T100000
DTEND;TZID=Europe/Amsterdam:20251225T110000
DTSTAMP:20260426T001214
CREATED:20251216T162444Z
LAST-MODIFIED:20251223T171313Z
UID:24970-1766656800-1766660400@kruispuntgemeente.nl
SUMMARY:Kerkdienst Eerste Kerstdag
DESCRIPTION:Jezus is het Licht voor de wereld. De duisternis zal het nooit kunnen winnen van het Licht. Deze overwinning willen wij vieren op eerste Kerstdag met liederen\, gebeden en met een evangelie dat mensen verandert. Ondanks alle ellende in deze wereld is er gegronde hoop op een stalende toekomst – met Jezus als onze Koning. Aan Hem alle eer! \nDownload de liturgie.
URL:https://kruispuntgemeente.nl/event/kerkdienst-eerste-kerstdag/
CATEGORIES:Bijbelstudie,Feest,Gebed,Kerkdienst,zondag
ATTACH;FMTTYPE=image/jpeg:https://kruispuntgemeente.nl/wp-content/uploads/2025/12/2025-12-25-scaled.jpg
END:VEVENT
END:VCALENDAR