BEGIN:VCALENDAR
VERSION:2.0
PRODID:-//Kruispunt - ECPv6.15.20//NONSGML v1.0//EN
CALSCALE:GREGORIAN
METHOD:PUBLISH
X-WR-CALNAME:Kruispunt
X-ORIGINAL-URL:https://kruispuntgemeente.nl
X-WR-CALDESC:Evenementen voor Kruispunt
REFRESH-INTERVAL;VALUE=DURATION:PT1H
X-Robots-Tag:noindex
X-PUBLISHED-TTL:PT1H
BEGIN:VTIMEZONE
TZID:Europe/Amsterdam
BEGIN:DAYLIGHT
TZOFFSETFROM:+0100
TZOFFSETTO:+0200
TZNAME:CEST
DTSTART:20250330T010000
END:DAYLIGHT
BEGIN:STANDARD
TZOFFSETFROM:+0200
TZOFFSETTO:+0100
TZNAME:CET
DTSTART:20251026T010000
END:STANDARD
BEGIN:DAYLIGHT
TZOFFSETFROM:+0100
TZOFFSETTO:+0200
TZNAME:CEST
DTSTART:20260329T010000
END:DAYLIGHT
BEGIN:STANDARD
TZOFFSETFROM:+0200
TZOFFSETTO:+0100
TZNAME:CET
DTSTART:20261025T010000
END:STANDARD
BEGIN:DAYLIGHT
TZOFFSETFROM:+0100
TZOFFSETTO:+0200
TZNAME:CEST
DTSTART:20270328T010000
END:DAYLIGHT
BEGIN:STANDARD
TZOFFSETFROM:+0200
TZOFFSETTO:+0100
TZNAME:CET
DTSTART:20271031T010000
END:STANDARD
END:VTIMEZONE
BEGIN:VEVENT
DTSTART;TZID=Europe/Amsterdam:20260104T100000
DTEND;TZID=Europe/Amsterdam:20260104T110000
DTSTAMP:20260425T160453
CREATED:20260101T134629Z
LAST-MODIFIED:20260103T160039Z
UID:25148-1767520800-1767524400@kruispuntgemeente.nl
SUMMARY:Kerkdienst
DESCRIPTION:In het kerstverhaal van Lukas 1-2 horen wij van zeven verschillende geïnspireerde uitspraken rondom de geboorte van Jezus. In onze tekst (Lukas 2: 21-40) horen wij de laatste twee profetische woorden uit de mond van Simeon en Hanna op het moment waar Jezus op de leeftijd van 40 dagen voor het eerst in de tempel in Jeruzalem is. Het zijn woorden die het wezen van het evangelie kenmerken. \nIn deze kerkdienst zullen wij ook de zegen vragen voor Jacob\, het zoontje van Andrii en Liuda Dvortsov. \nDownload de liturgie (PDF\, 305 kB).
URL:https://kruispuntgemeente.nl/event/kerkdienst-51/
CATEGORIES:Bijbelstudie,Gebed,Kerkdienst,zondag
ATTACH;FMTTYPE=image/jpeg:https://kruispuntgemeente.nl/wp-content/uploads/2026/01/2026-01-04a.jpg
END:VEVENT
END:VCALENDAR