BEGIN:VCALENDAR
VERSION:2.0
PRODID:-//Kruispunt - ECPv6.15.20//NONSGML v1.0//EN
CALSCALE:GREGORIAN
METHOD:PUBLISH
X-WR-CALNAME:Kruispunt
X-ORIGINAL-URL:https://kruispuntgemeente.nl
X-WR-CALDESC:Evenementen voor Kruispunt
REFRESH-INTERVAL;VALUE=DURATION:PT1H
X-Robots-Tag:noindex
X-PUBLISHED-TTL:PT1H
BEGIN:VTIMEZONE
TZID:Europe/Amsterdam
BEGIN:DAYLIGHT
TZOFFSETFROM:+0100
TZOFFSETTO:+0200
TZNAME:CEST
DTSTART:20240331T010000
END:DAYLIGHT
BEGIN:STANDARD
TZOFFSETFROM:+0200
TZOFFSETTO:+0100
TZNAME:CET
DTSTART:20241027T010000
END:STANDARD
BEGIN:DAYLIGHT
TZOFFSETFROM:+0100
TZOFFSETTO:+0200
TZNAME:CEST
DTSTART:20250330T010000
END:DAYLIGHT
BEGIN:STANDARD
TZOFFSETFROM:+0200
TZOFFSETTO:+0100
TZNAME:CET
DTSTART:20251026T010000
END:STANDARD
BEGIN:DAYLIGHT
TZOFFSETFROM:+0100
TZOFFSETTO:+0200
TZNAME:CEST
DTSTART:20260329T010000
END:DAYLIGHT
BEGIN:STANDARD
TZOFFSETFROM:+0200
TZOFFSETTO:+0100
TZNAME:CET
DTSTART:20261025T010000
END:STANDARD
END:VTIMEZONE
BEGIN:VEVENT
DTSTART;TZID=Europe/Amsterdam:20251228T100000
DTEND;TZID=Europe/Amsterdam:20251228T110000
DTSTAMP:20260425T223359
CREATED:20251216T170251Z
LAST-MODIFIED:20251216T201543Z
UID:24976-1766916000-1766919600@kruispuntgemeente.nl
SUMMARY:Kerkdienst
DESCRIPTION:Niet iedereen was blij met de geboorte van Jezus Christus die de Koning aller koningen genoemd zou worden. Het verhaal van Mat. 2 roept ons op een keuze te maken: voor óf tegen deze Koning. De wijzen uit het Oosten hebben hun keuze gemaakt. Ook dat werd hen niet in dank afgenomen. Vervolging van Christus en van hen die voor Hem zijn\, is blijkbaar van alle tijden.
URL:https://kruispuntgemeente.nl/event/kerkdienst-50/
CATEGORIES:Kerkdienst,zondag
ATTACH;FMTTYPE=image/jpeg:https://kruispuntgemeente.nl/wp-content/uploads/2025/12/2025-12-28-1-scaled.jpg
END:VEVENT
END:VCALENDAR