BEGIN:VCALENDAR
VERSION:2.0
PRODID:-//Kruispunt - ECPv6.15.20//NONSGML v1.0//EN
CALSCALE:GREGORIAN
METHOD:PUBLISH
X-WR-CALNAME:Kruispunt
X-ORIGINAL-URL:https://kruispuntgemeente.nl
X-WR-CALDESC:Evenementen voor Kruispunt
REFRESH-INTERVAL;VALUE=DURATION:PT1H
X-Robots-Tag:noindex
X-PUBLISHED-TTL:PT1H
BEGIN:VTIMEZONE
TZID:Europe/Amsterdam
BEGIN:DAYLIGHT
TZOFFSETFROM:+0100
TZOFFSETTO:+0200
TZNAME:CEST
DTSTART:20230326T010000
END:DAYLIGHT
BEGIN:STANDARD
TZOFFSETFROM:+0200
TZOFFSETTO:+0100
TZNAME:CET
DTSTART:20231029T010000
END:STANDARD
BEGIN:DAYLIGHT
TZOFFSETFROM:+0100
TZOFFSETTO:+0200
TZNAME:CEST
DTSTART:20240331T010000
END:DAYLIGHT
BEGIN:STANDARD
TZOFFSETFROM:+0200
TZOFFSETTO:+0100
TZNAME:CET
DTSTART:20241027T010000
END:STANDARD
BEGIN:DAYLIGHT
TZOFFSETFROM:+0100
TZOFFSETTO:+0200
TZNAME:CEST
DTSTART:20250330T010000
END:DAYLIGHT
BEGIN:STANDARD
TZOFFSETFROM:+0200
TZOFFSETTO:+0100
TZNAME:CET
DTSTART:20251026T010000
END:STANDARD
END:VTIMEZONE
BEGIN:VEVENT
DTSTART;TZID=Europe/Amsterdam:20240519T100000
DTEND;TZID=Europe/Amsterdam:20240519T113000
DTSTAMP:20260421T110401
CREATED:20240427T221155Z
LAST-MODIFIED:20240516T151548Z
UID:10642-1716112800-1716118200@kruispuntgemeente.nl
SUMMARY:Kerkdienst 19 mei
DESCRIPTION:Pinksteren 2000 jaar geleden en de uitstorting van de Heilige Geest horen bij elkaar. Toen werd in Jeruzalem heilsgeschiedenis geschreven. De Gemeente van Jezus Christus werd geboren – of geschapen door de werking van de Geest. Helaas denken velen dat Pinksteren alleen een prachtig verhaal uit het verleden is. Zo van: mooi voor die mensen dat ze met de Geest van Christus werden vervuld\, maar wat betekent dit voor mij vandaag? Het gaat erom zelf vervuld te worden met de Schepper Geest en onderdeel te worden van deze Nieuwe Schepping. Vandaar dat wij vierend nadenken over de vraag: Hoe kan ik vervuld worden met de Heilige Geest en hoe kan ik God danken voor het geschenk van Zijn Geest in mijn leven? \nIn deze dienst zal Jacklyn Trommelen openbare belijdenis van haar geloof doen. \nDe liturgie voor deze dienst kunt u HIER downloaden. \nWees welkom!
URL:https://kruispuntgemeente.nl/event/kerkdienst-19-mei/
CATEGORIES:Bijbelstudie,Gebed,Kerkdienst
ATTACH;FMTTYPE=image/jpeg:https://kruispuntgemeente.nl/wp-content/uploads/2024/04/2024-05-19-Pinksteren-scaled.jpg
END:VEVENT
END:VCALENDAR