BEGIN:VCALENDAR
VERSION:2.0
PRODID:-//Kruispunt - ECPv6.15.20//NONSGML v1.0//EN
CALSCALE:GREGORIAN
METHOD:PUBLISH
X-WR-CALNAME:Kruispunt
X-ORIGINAL-URL:https://kruispuntgemeente.nl
X-WR-CALDESC:Evenementen voor Kruispunt
REFRESH-INTERVAL;VALUE=DURATION:PT1H
X-Robots-Tag:noindex
X-PUBLISHED-TTL:PT1H
BEGIN:VTIMEZONE
TZID:Europe/Amsterdam
BEGIN:DAYLIGHT
TZOFFSETFROM:+0100
TZOFFSETTO:+0200
TZNAME:CEST
DTSTART:20220327T010000
END:DAYLIGHT
BEGIN:STANDARD
TZOFFSETFROM:+0200
TZOFFSETTO:+0100
TZNAME:CET
DTSTART:20221030T010000
END:STANDARD
BEGIN:DAYLIGHT
TZOFFSETFROM:+0100
TZOFFSETTO:+0200
TZNAME:CEST
DTSTART:20230326T010000
END:DAYLIGHT
BEGIN:STANDARD
TZOFFSETFROM:+0200
TZOFFSETTO:+0100
TZNAME:CET
DTSTART:20231029T010000
END:STANDARD
BEGIN:DAYLIGHT
TZOFFSETFROM:+0100
TZOFFSETTO:+0200
TZNAME:CEST
DTSTART:20240331T010000
END:DAYLIGHT
BEGIN:STANDARD
TZOFFSETFROM:+0200
TZOFFSETTO:+0100
TZNAME:CET
DTSTART:20241027T010000
END:STANDARD
END:VTIMEZONE
BEGIN:VEVENT
DTSTART;TZID=Europe/Amsterdam:20231015T100000
DTEND;TZID=Europe/Amsterdam:20231015T110000
DTSTAMP:20260421T112249
CREATED:20231011T093929Z
LAST-MODIFIED:20231012T091819Z
UID:9149-1697364000-1697367600@kruispuntgemeente.nl
SUMMARY:Kerkdienst 15 oktober
DESCRIPTION:Paulus komt op zijn zendingsreis naar de bloeiende wereldstad Korinte\, het Eldorado van de oudheid. Wie een beetje handig was kon een vermogen verdienen. Maar Paulus had een ander missie. Hij wil het evangelie van Jezus verkondigen\, het Woord van het kruis\, zodat mensen niet verloren gaan. De Joden in Korinte laten het afweten. Een gekruisigde Messias past niet in hun wereldbeeld – of beter: ze willen dat alles zo blijft zoals het is. Einde discussie. De deur voor Jezus ging in de synagoge dicht. Wonderbaarlijk genoeg gaan andere deuren open. \nUiteindelijk gaat het in dit hoofdstuk over de vraag hoe het evangelie van een gekruisigde Verlosser vertaalt kan worden naar het heden – juist voor mensen die (oprecht) denken Jezus niet nodig te hebben. \nDe liturgie voor deze dienst kunt u HIER downloaden. \nMet een hartelijke groet\, \nWerner Gugler
URL:https://kruispuntgemeente.nl/event/kerkdienst-15-oktober/
CATEGORIES:Kerkdienst
ATTACH;FMTTYPE=image/jpeg:https://kruispuntgemeente.nl/wp-content/uploads/2023/10/2023-10-15-scaled.jpg
END:VEVENT
END:VCALENDAR