BEGIN:VCALENDAR
VERSION:2.0
PRODID:-//Kruispunt - ECPv6.15.20//NONSGML v1.0//EN
CALSCALE:GREGORIAN
METHOD:PUBLISH
X-WR-CALNAME:Kruispunt
X-ORIGINAL-URL:https://kruispuntgemeente.nl
X-WR-CALDESC:Evenementen voor Kruispunt
REFRESH-INTERVAL;VALUE=DURATION:PT1H
X-Robots-Tag:noindex
X-PUBLISHED-TTL:PT1H
BEGIN:VTIMEZONE
TZID:Europe/Amsterdam
BEGIN:DAYLIGHT
TZOFFSETFROM:+0100
TZOFFSETTO:+0200
TZNAME:CEST
DTSTART:20230326T010000
END:DAYLIGHT
BEGIN:STANDARD
TZOFFSETFROM:+0200
TZOFFSETTO:+0100
TZNAME:CET
DTSTART:20231029T010000
END:STANDARD
BEGIN:DAYLIGHT
TZOFFSETFROM:+0100
TZOFFSETTO:+0200
TZNAME:CEST
DTSTART:20240331T010000
END:DAYLIGHT
BEGIN:STANDARD
TZOFFSETFROM:+0200
TZOFFSETTO:+0100
TZNAME:CET
DTSTART:20241027T010000
END:STANDARD
BEGIN:DAYLIGHT
TZOFFSETFROM:+0100
TZOFFSETTO:+0200
TZNAME:CEST
DTSTART:20250330T010000
END:DAYLIGHT
BEGIN:STANDARD
TZOFFSETFROM:+0200
TZOFFSETTO:+0100
TZNAME:CET
DTSTART:20251026T010000
END:STANDARD
END:VTIMEZONE
BEGIN:VEVENT
DTSTART;TZID=Europe/Amsterdam:20240414T100000
DTEND;TZID=Europe/Amsterdam:20240414T110000
DTSTAMP:20260421T101719
CREATED:20240408T171910Z
LAST-MODIFIED:20240411T155912Z
UID:10522-1713088800-1713092400@kruispuntgemeente.nl
SUMMARY:Kerkdienst 14 april
DESCRIPTION:In deze kerkdienst gaan we de serie preken over de Tien Geboden afsluiten. Het tiende gebod gaat over een ongeoorloofd verlangen. Kunnen wij als mensen ons verlangen of begeren bepalen? Dit geldt ook naar de positieve invulling van het gebod – waar zouden wij wel naar verlangen? Met dit gebod kan zichtbaar worden wat (of wie) ons hart regeert. Uit eigen kracht is een verandering van ons hart ten diepste niet mogelijk. Een verandering of beter: een vernieuwing van ons hart is volgens de Bijbel de enige oplossing. Zonder het vernieuwende werk van de Heilige Geest blijft alles bij het oude. Gelukkig weten wij van de komst van de Heilige Geest. \nDe liturgie voor deze dienst kunt u HIER downloaden.
URL:https://kruispuntgemeente.nl/event/kerkdienst-14-april/
CATEGORIES:Bijbelstudie,Kerkdienst
ATTACH;FMTTYPE=image/jpeg:https://kruispuntgemeente.nl/wp-content/uploads/2024/04/2024-04-14-verlangen-scaled.jpg
END:VEVENT
END:VCALENDAR