BEGIN:VCALENDAR
VERSION:2.0
PRODID:-//Kruispunt - ECPv6.15.20//NONSGML v1.0//EN
CALSCALE:GREGORIAN
METHOD:PUBLISH
X-WR-CALNAME:Kruispunt
X-ORIGINAL-URL:https://kruispuntgemeente.nl
X-WR-CALDESC:Evenementen voor Kruispunt
REFRESH-INTERVAL;VALUE=DURATION:PT1H
X-Robots-Tag:noindex
X-PUBLISHED-TTL:PT1H
BEGIN:VTIMEZONE
TZID:Europe/Amsterdam
BEGIN:DAYLIGHT
TZOFFSETFROM:+0100
TZOFFSETTO:+0200
TZNAME:CEST
DTSTART:20220327T010000
END:DAYLIGHT
BEGIN:STANDARD
TZOFFSETFROM:+0200
TZOFFSETTO:+0100
TZNAME:CET
DTSTART:20221030T010000
END:STANDARD
BEGIN:DAYLIGHT
TZOFFSETFROM:+0100
TZOFFSETTO:+0200
TZNAME:CEST
DTSTART:20230326T010000
END:DAYLIGHT
BEGIN:STANDARD
TZOFFSETFROM:+0200
TZOFFSETTO:+0100
TZNAME:CET
DTSTART:20231029T010000
END:STANDARD
BEGIN:DAYLIGHT
TZOFFSETFROM:+0100
TZOFFSETTO:+0200
TZNAME:CEST
DTSTART:20240331T010000
END:DAYLIGHT
BEGIN:STANDARD
TZOFFSETFROM:+0200
TZOFFSETTO:+0100
TZNAME:CET
DTSTART:20241027T010000
END:STANDARD
END:VTIMEZONE
BEGIN:VEVENT
DTSTART;TZID=Europe/Amsterdam:20231008T190000
DTEND;TZID=Europe/Amsterdam:20231008T200000
DTSTAMP:20260421T101740
CREATED:20231004T110359Z
LAST-MODIFIED:20231004T110359Z
UID:9100-1696791600-1696795200@kruispuntgemeente.nl
SUMMARY:Gebedsbijeenkomst
DESCRIPTION:Hoe komt een mens tot levend geloof? Uiteraard speelt hier het horen van het evangelie een cruciale rol (Rom. 10:17) – maar niet minder het gebed. In Efeziërs 6:19 vraagt Paulus (die op dat moment in de gevangenis zit): “Bid ook voor mij\, opdat mij het woord gegeven wordt bij het openen van mijn mond\, om met vrijmoedigheid het geheimenis van het Evangelie bekend te maken” \nIn deze bijeenkomst gaat het over de samenhang van Gebed & Evangelisatie. Wat kunnen we leren zodat de Heer de harten van mensen opent voor een geloof in Jezus Christus? Uiteraard gaan we ook heel concreet hiervoor bidden. \n 
URL:https://kruispuntgemeente.nl/event/gebedsbijeenkomst/
CATEGORIES:Gebed,Zondagavond
ATTACH;FMTTYPE=image/jpeg:https://kruispuntgemeente.nl/wp-content/uploads/2023/10/Gebed-2023-10-08-Gebed-scaled.jpg
END:VEVENT
END:VCALENDAR