BEGIN:VCALENDAR
VERSION:2.0
PRODID:-//Kruispunt - ECPv6.15.20//NONSGML v1.0//EN
CALSCALE:GREGORIAN
METHOD:PUBLISH
X-WR-CALNAME:Kruispunt
X-ORIGINAL-URL:https://kruispuntgemeente.nl
X-WR-CALDESC:Evenementen voor Kruispunt
REFRESH-INTERVAL;VALUE=DURATION:PT1H
X-Robots-Tag:noindex
X-PUBLISHED-TTL:PT1H
BEGIN:VTIMEZONE
TZID:Europe/Amsterdam
BEGIN:DAYLIGHT
TZOFFSETFROM:+0100
TZOFFSETTO:+0200
TZNAME:CEST
DTSTART:20230326T010000
END:DAYLIGHT
BEGIN:STANDARD
TZOFFSETFROM:+0200
TZOFFSETTO:+0100
TZNAME:CET
DTSTART:20231029T010000
END:STANDARD
BEGIN:DAYLIGHT
TZOFFSETFROM:+0100
TZOFFSETTO:+0200
TZNAME:CEST
DTSTART:20240331T010000
END:DAYLIGHT
BEGIN:STANDARD
TZOFFSETFROM:+0200
TZOFFSETTO:+0100
TZNAME:CET
DTSTART:20241027T010000
END:STANDARD
BEGIN:DAYLIGHT
TZOFFSETFROM:+0100
TZOFFSETTO:+0200
TZNAME:CEST
DTSTART:20250330T010000
END:DAYLIGHT
BEGIN:STANDARD
TZOFFSETFROM:+0200
TZOFFSETTO:+0100
TZNAME:CET
DTSTART:20251026T010000
END:STANDARD
END:VTIMEZONE
BEGIN:VEVENT
DTSTART;TZID=Europe/Amsterdam:20241212T200000
DTEND;TZID=Europe/Amsterdam:20241212T210000
DTSTAMP:20260422T110736
CREATED:20241129T074343Z
LAST-MODIFIED:20241129T075427Z
UID:16521-1734033600-1734037200@kruispuntgemeente.nl
SUMMARY:Bijbelacademie
DESCRIPTION:Openbaring 12-13 geeft verrassend inzicht over ‘het waarom en hoe’ van een geestelijke strijd rondom Christus en de veelvoudige vijanden van het Lam. Door de eeuwen heen hebben christenen de vraag gesteld wie het zogenaamde beest (de antichristus) van Openbaring 13 is en wat de betekenis is van het getal 666. We zullen niet alle vragen kunnen beantwoorden maar het belooft een verhelderende avond te worden.
URL:https://kruispuntgemeente.nl/event/bijbelacademie-5/
CATEGORIES:Bijbelacademie,Bijbelstudie,donderdag,Lezing
ATTACH;FMTTYPE=image/jpeg:https://kruispuntgemeente.nl/wp-content/uploads/2024/11/2024-12-12a.jpg
END:VEVENT
END:VCALENDAR