BEGIN:VCALENDAR
VERSION:2.0
PRODID:-//Kruispunt - ECPv6.15.20//NONSGML v1.0//EN
CALSCALE:GREGORIAN
METHOD:PUBLISH
X-WR-CALNAME:Kruispunt
X-ORIGINAL-URL:https://kruispuntgemeente.nl
X-WR-CALDESC:Evenementen voor Kruispunt
REFRESH-INTERVAL;VALUE=DURATION:PT1H
X-Robots-Tag:noindex
X-PUBLISHED-TTL:PT1H
BEGIN:VTIMEZONE
TZID:Europe/Amsterdam
BEGIN:DAYLIGHT
TZOFFSETFROM:+0100
TZOFFSETTO:+0200
TZNAME:CEST
DTSTART:20230326T010000
END:DAYLIGHT
BEGIN:STANDARD
TZOFFSETFROM:+0200
TZOFFSETTO:+0100
TZNAME:CET
DTSTART:20231029T010000
END:STANDARD
BEGIN:DAYLIGHT
TZOFFSETFROM:+0100
TZOFFSETTO:+0200
TZNAME:CEST
DTSTART:20240331T010000
END:DAYLIGHT
BEGIN:STANDARD
TZOFFSETFROM:+0200
TZOFFSETTO:+0100
TZNAME:CET
DTSTART:20241027T010000
END:STANDARD
BEGIN:DAYLIGHT
TZOFFSETFROM:+0100
TZOFFSETTO:+0200
TZNAME:CEST
DTSTART:20250330T010000
END:DAYLIGHT
BEGIN:STANDARD
TZOFFSETFROM:+0200
TZOFFSETTO:+0100
TZNAME:CET
DTSTART:20251026T010000
END:STANDARD
END:VTIMEZONE
BEGIN:VEVENT
DTSTART;TZID=Europe/Amsterdam:20240526T190000
DTEND;TZID=Europe/Amsterdam:20240526T200000
DTSTAMP:20260423T130135
CREATED:20240417T103004Z
LAST-MODIFIED:20240517T072945Z
UID:10557-1716750000-1716753600@kruispuntgemeente.nl
SUMMARY:Bijbelacademie 26 mei
DESCRIPTION:Eén van de verrassende uitspraken van Jezus is dat het hele Oude Testament over Hem spreekt (Joh. 5:39). Zo zei de Opgestane tegen twee deserterende discipelen die moeite hadden het kruis en de opstanding van Jezus te begrijpen: “Moest de Messias al dat lijden niet ondergaan om zijn glorie binnen te gaan?” Daarna verklaarde Hij hun wat er in al de Schriften over Hem geschreven stond\, en Hij begon bij Mozes en de Profeten. (Lukas 24: 25-27) \nIn deze lezing over Daniel 6 willen wij één van deze teksten uit de Profeten nader belichten. Op welke wijze spreken deze oude woorden over het kruis en de opstanding van Jezus? Het belooft een verrassende avond te worden. \nds. Werner Gugler \n 
URL:https://kruispuntgemeente.nl/event/bijbelacademie-24-mei/
CATEGORIES:Bijbelacademie,Bijbelstudie,Lezing,Zondagavond
ATTACH;FMTTYPE=image/jpeg:https://kruispuntgemeente.nl/wp-content/uploads/2024/04/2024-05-24-Daniel-6-scaled.jpg
END:VEVENT
END:VCALENDAR