BEGIN:VCALENDAR
VERSION:2.0
PRODID:-//Kruispunt - ECPv6.15.20//NONSGML v1.0//EN
CALSCALE:GREGORIAN
METHOD:PUBLISH
X-WR-CALNAME:Kruispunt
X-ORIGINAL-URL:https://kruispuntgemeente.nl
X-WR-CALDESC:Evenementen voor Kruispunt
REFRESH-INTERVAL;VALUE=DURATION:PT1H
X-Robots-Tag:noindex
X-PUBLISHED-TTL:PT1H
BEGIN:VTIMEZONE
TZID:Europe/Amsterdam
BEGIN:DAYLIGHT
TZOFFSETFROM:+0100
TZOFFSETTO:+0200
TZNAME:CEST
DTSTART:20240331T010000
END:DAYLIGHT
BEGIN:STANDARD
TZOFFSETFROM:+0200
TZOFFSETTO:+0100
TZNAME:CET
DTSTART:20241027T010000
END:STANDARD
BEGIN:DAYLIGHT
TZOFFSETFROM:+0100
TZOFFSETTO:+0200
TZNAME:CEST
DTSTART:20250330T010000
END:DAYLIGHT
BEGIN:STANDARD
TZOFFSETFROM:+0200
TZOFFSETTO:+0100
TZNAME:CET
DTSTART:20251026T010000
END:STANDARD
BEGIN:DAYLIGHT
TZOFFSETFROM:+0100
TZOFFSETTO:+0200
TZNAME:CEST
DTSTART:20260329T010000
END:DAYLIGHT
BEGIN:STANDARD
TZOFFSETFROM:+0200
TZOFFSETTO:+0100
TZNAME:CET
DTSTART:20261025T010000
END:STANDARD
END:VTIMEZONE
BEGIN:VEVENT
DTSTART;TZID=Europe/Amsterdam:20250323T190000
DTEND;TZID=Europe/Amsterdam:20250323T200000
DTSTAMP:20260421T114633
CREATED:20250214T133500Z
LAST-MODIFIED:20250214T135850Z
UID:19071-1742756400-1742760000@kruispuntgemeente.nl
SUMMARY:Bijbelacademie
DESCRIPTION:Alles wat leeft wil groeien. Dit geldt ook voor een levend geloof. Hoe kunnen we ons geloof op een gezonde manier laten groeien? En andersom: is het mogelijk dat ons geloof geleidelijk aan verdort en afsterft? Wat kunnen wij wel/niet doen om dit scenario te voorkomen? Is het mogelijk een ‘afgestorven’ geloof weer tot leven te brengen. Dit zijn een paar vragen waar we van elkaar en vanuit de Bijbel willen leren om een gezond geloof tot eigen te maken.
URL:https://kruispuntgemeente.nl/event/bijbelacademie-11/
CATEGORIES:Bijbelacademie,Bijbelstudie,zondag,Zondagavond
ATTACH;FMTTYPE=image/jpeg:https://kruispuntgemeente.nl/wp-content/uploads/2025/02/2025-03-23-BAa.jpg
END:VEVENT
END:VCALENDAR