BEGIN:VCALENDAR
VERSION:2.0
PRODID:-//Kruispunt - ECPv6.15.20//NONSGML v1.0//EN
CALSCALE:GREGORIAN
METHOD:PUBLISH
X-WR-CALNAME:Kruispunt
X-ORIGINAL-URL:https://kruispuntgemeente.nl
X-WR-CALDESC:Evenementen voor Kruispunt
REFRESH-INTERVAL;VALUE=DURATION:PT1H
X-Robots-Tag:noindex
X-PUBLISHED-TTL:PT1H
BEGIN:VTIMEZONE
TZID:Europe/Amsterdam
BEGIN:DAYLIGHT
TZOFFSETFROM:+0100
TZOFFSETTO:+0200
TZNAME:CEST
DTSTART:20230326T010000
END:DAYLIGHT
BEGIN:STANDARD
TZOFFSETFROM:+0200
TZOFFSETTO:+0100
TZNAME:CET
DTSTART:20231029T010000
END:STANDARD
BEGIN:DAYLIGHT
TZOFFSETFROM:+0100
TZOFFSETTO:+0200
TZNAME:CEST
DTSTART:20240331T010000
END:DAYLIGHT
BEGIN:STANDARD
TZOFFSETFROM:+0200
TZOFFSETTO:+0100
TZNAME:CET
DTSTART:20241027T010000
END:STANDARD
BEGIN:DAYLIGHT
TZOFFSETFROM:+0100
TZOFFSETTO:+0200
TZNAME:CEST
DTSTART:20250330T010000
END:DAYLIGHT
BEGIN:STANDARD
TZOFFSETFROM:+0200
TZOFFSETTO:+0100
TZNAME:CET
DTSTART:20251026T010000
END:STANDARD
END:VTIMEZONE
BEGIN:VEVENT
DTSTART;TZID=Europe/Amsterdam:20241010T200000
DTEND;TZID=Europe/Amsterdam:20241010T213000
DTSTAMP:20260425T133237
CREATED:20240920T155807Z
LAST-MODIFIED:20241002T123222Z
UID:14194-1728590400-1728595800@kruispuntgemeente.nl
SUMMARY:Bijbelacademie
DESCRIPTION:Openbaring 4-5 laat de hemelse majesteit van Jezus zien. Hij is het geslachte Lam én de Leeuw van Juda die waardig is om de verzegelde boekrol te openen. Wat deze positie betekent en welke troost christenen hieruit kunnen putten\, willen wij met elkaar bespreken.
URL:https://kruispuntgemeente.nl/event/bijbelacademie-10-oktober/
CATEGORIES:Bijbelacademie,Bijbelstudie,donderdag,Lezing
ATTACH;FMTTYPE=image/jpeg:https://kruispuntgemeente.nl/wp-content/uploads/2024/09/2024-10-10-BA-scaled.jpg
END:VEVENT
END:VCALENDAR