BEGIN:VCALENDAR
VERSION:2.0
PRODID:-//Kruispunt - ECPv6.15.20//NONSGML v1.0//EN
CALSCALE:GREGORIAN
METHOD:PUBLISH
X-WR-CALNAME:Kruispunt
X-ORIGINAL-URL:https://kruispuntgemeente.nl
X-WR-CALDESC:Evenementen voor Kruispunt
REFRESH-INTERVAL;VALUE=DURATION:PT1H
X-Robots-Tag:noindex
X-PUBLISHED-TTL:PT1H
BEGIN:VTIMEZONE
TZID:Europe/Amsterdam
BEGIN:DAYLIGHT
TZOFFSETFROM:+0100
TZOFFSETTO:+0200
TZNAME:CEST
DTSTART:20220327T010000
END:DAYLIGHT
BEGIN:STANDARD
TZOFFSETFROM:+0200
TZOFFSETTO:+0100
TZNAME:CET
DTSTART:20221030T010000
END:STANDARD
BEGIN:DAYLIGHT
TZOFFSETFROM:+0100
TZOFFSETTO:+0200
TZNAME:CEST
DTSTART:20230326T010000
END:DAYLIGHT
BEGIN:STANDARD
TZOFFSETFROM:+0200
TZOFFSETTO:+0100
TZNAME:CET
DTSTART:20231029T010000
END:STANDARD
BEGIN:DAYLIGHT
TZOFFSETFROM:+0100
TZOFFSETTO:+0200
TZNAME:CEST
DTSTART:20240331T010000
END:DAYLIGHT
BEGIN:STANDARD
TZOFFSETFROM:+0200
TZOFFSETTO:+0100
TZNAME:CET
DTSTART:20241027T010000
END:STANDARD
END:VTIMEZONE
BEGIN:VEVENT
DTSTART;TZID=Europe/Amsterdam:20231217T190000
DTEND;TZID=Europe/Amsterdam:20231217T200000
DTSTAMP:20260421T113943
CREATED:20231128T114213Z
LAST-MODIFIED:20231213T155731Z
UID:9441-1702839600-1702843200@kruispuntgemeente.nl
SUMMARY:Avonddienst 17. dec.
DESCRIPTION:In deze kerkdienst willen wij ons verdiepen in het onderwerp: De Godheid van Jezus. In de geloofsbelijdenis staat de formulering “geboren uit de maagd Maria”. Veel mensen hebben moeite met de zogenaamde ‘maagdelijke geboorte’ van Jezus. Uiteindelijk gaat het om de vraag wie Jezus is en waar Hij vandaan komt. Het bijzondere van Jezus staat en valt met de antwoorden op deze vragen. Hoe kunnen wij vanuit de Bijbel Zijn Godheid onderkennen en vooral: wat betekent deze uitspraak voor ons geloof? \nDe liturgie kunt u HIER downloaden. \n 
URL:https://kruispuntgemeente.nl/event/avonddienst-17-dec/
CATEGORIES:Bijbelstudie,Kerkdienst,Zondagavond
ATTACH;FMTTYPE=image/jpeg:https://kruispuntgemeente.nl/wp-content/uploads/2023/11/2023-12-17a-scaled.jpg
END:VEVENT
END:VCALENDAR